BEGIN:VCALENDAR
VERSION:2.0
METHOD:PUBLISH
PRODID:-//imacoda.com//SPD-Web-O-Mat//EN
CALSCALE:GREGORIAN
BEGIN:VTIMEZONE
TZID:Europe/Berlin
BEGIN:DAYLIGHT
TZOFFSETFROM:+0100
RRULE:FREQ=YEARLY;BYMONTH=3;BYDAY=-1SU
DTSTART:19810329T020000
TZNAME:MESZ
TZOFFSETTO:+0200
END:DAYLIGHT
BEGIN:STANDARD
TZOFFSETFROM:+0200
RRULE:FREQ=YEARLY;BYMONTH=10;BYDAY=-1SU
DTSTART:19961027T030000
TZNAME:MEZ
TZOFFSETTO:+0100
END:STANDARD
END:VTIMEZONE
BEGIN:VEVENT
UID:20211127T080948Z-00000709740-LULU@www.bayernspd.de
CREATED:20211127T080948Z
LAST-MODIFIED:20211127T080948Z
DTSTAMP:20211127T080948Z
TRANSP:TRANSPARENT
DTSTART;TZID=Europe/Berlin:20211207T180000
DTEND;TZID=Europe/Berlin:20211207T180000
SUMMARY:Stadtrat: Sitzung des Hauptausschusses
LOCATION:Rathaus
DESCRIPTION:Termin im Web (SPD Wolfratshausen):\nhttps://spd-wolfratshau
 sen.de/termine/?id=709740
END:VEVENT
END:VCALENDAR
